BEGIN:VCALENDAR
VERSION:2.0
PRODID:-//Mini Bees Childcare - Group of Nurseries - ECPv6.15.20//NONSGML v1.0//EN
CALSCALE:GREGORIAN
METHOD:PUBLISH
X-WR-CALNAME:Mini Bees Childcare - Group of Nurseries
X-ORIGINAL-URL:https://minibeeschildcare.co.uk
X-WR-CALDESC:Events for Mini Bees Childcare - Group of Nurseries
REFRESH-INTERVAL;VALUE=DURATION:PT1H
X-Robots-Tag:noindex
X-PUBLISHED-TTL:PT1H
BEGIN:VTIMEZONE
TZID:Europe/London
BEGIN:DAYLIGHT
TZOFFSETFROM:+0000
TZOFFSETTO:+0100
TZNAME:BST
DTSTART:20250330T010000
END:DAYLIGHT
BEGIN:STANDARD
TZOFFSETFROM:+0100
TZOFFSETTO:+0000
TZNAME:GMT
DTSTART:20251026T010000
END:STANDARD
BEGIN:DAYLIGHT
TZOFFSETFROM:+0000
TZOFFSETTO:+0100
TZNAME:BST
DTSTART:20260329T010000
END:DAYLIGHT
BEGIN:STANDARD
TZOFFSETFROM:+0100
TZOFFSETTO:+0000
TZNAME:GMT
DTSTART:20261025T010000
END:STANDARD
BEGIN:DAYLIGHT
TZOFFSETFROM:+0000
TZOFFSETTO:+0100
TZNAME:BST
DTSTART:20270328T010000
END:DAYLIGHT
BEGIN:STANDARD
TZOFFSETFROM:+0100
TZOFFSETTO:+0000
TZNAME:GMT
DTSTART:20271031T010000
END:STANDARD
END:VTIMEZONE
BEGIN:VEVENT
DTSTART;VALUE=DATE:20260312
DTEND;VALUE=DATE:20260313
DTSTAMP:20260425T162017
CREATED:20230725T143655Z
LAST-MODIFIED:20250919T232725Z
UID:1762-1773273600-1773359999@minibeeschildcare.co.uk
SUMMARY:Mother's Day Celebration
DESCRIPTION:Mini Bees Childcare celebrates Mother’s Day with creative activities\, crafts\, and loving gestures from children\, making mums feel truly special.
URL:https://minibeeschildcare.co.uk/event/events-mothers-day-nursery
ATTACH;FMTTYPE=image/jpeg:https://minibeeschildcare.co.uk/wp-content/uploads/2023/07/Mother.jpg
END:VEVENT
END:VCALENDAR